BEGIN:VCALENDAR
VERSION:2.0
PRODID:-//Eventin//Event Calendar//EN
CALSCALE:GREGORIAN
METHOD:PUBLISH
BEGIN:VEVENT
UID:58581ef2e5585de9589e58fa85596f1f@volketswil-schwerzenbach.grunliberale.
 ch
SUMMARY:Höck - Fondueabend
DESCRIPTION:
LOCATION:noch offen
DTSTAMP:20260424T075723Z
DTSTART:20261204T070000Z
DTEND:20261204T160000Z
END:VEVENT
END:VCALENDAR
