BEGIN:VCALENDAR
VERSION:2.0
PRODID:-//Eventin//Event Calendar//EN
CALSCALE:GREGORIAN
METHOD:PUBLISH
BEGIN:VEVENT
UID:15c1137ca1d9c360dd90ed62d615a5f0@volketswil-schwerzenbach.grunliberale.
 ch
SUMMARY:Gemeindeversammlung Volketswil
DESCRIPTION:
LOCATION:Kultur- und Sportzentrum Gries\, Volketswil
DTSTAMP:20260424T074819Z
DTSTART:20261201T183000Z
DTEND:20261201T210000Z
END:VEVENT
END:VCALENDAR
