BEGIN:VCALENDAR
VERSION:2.0
PRODID:-//Eventin//Event Calendar//EN
CALSCALE:GREGORIAN
METHOD:PUBLISH
BEGIN:VEVENT
UID:78ac30a4fdd618bc9f5dcb1c10e5fe49@volketswil-schwerzenbach.grunliberale.
 ch
SUMMARY:Gemeindeversammlung Schwerzenbach
DESCRIPTION:
LOCATION:Scherzenbach
DTSTAMP:20260424T075712Z
DTSTART:20261119T180000Z
DTEND:20261119T200000Z
END:VEVENT
END:VCALENDAR
