BEGIN:VCALENDAR
VERSION:2.0
PRODID:-//Eventin//Event Calendar//EN
CALSCALE:GREGORIAN
METHOD:PUBLISH
BEGIN:VEVENT
UID:f2c94aed5ebcba35de16a5fbc8143f39@volketswil-schwerzenbach.grunliberale.
 ch
SUMMARY:Senig-Suppenzmittag
DESCRIPTION:Wir kochen eine feine Suppe und servieren diese beim Senig-Supp
 enzmittag.
LOCATION:GZ\, In der Au\, Volketswil
DTSTAMP:20260424T075704Z
DTSTART:20261114T070000Z
DTEND:20261114T133000Z
END:VEVENT
END:VCALENDAR
