BEGIN:VCALENDAR
VERSION:2.0
PRODID:-//Eventin//Event Calendar//EN
CALSCALE:GREGORIAN
METHOD:PUBLISH
BEGIN:VEVENT
UID:29b681f55b0b3f9e922e66aae08d9bd5@volketswil-schwerzenbach.grunliberale.
 ch
SUMMARY:Höck mit Parolenfassung
DESCRIPTION:
LOCATION:Volketswil
DTSTAMP:20260424T093232Z
DTSTART:20261103T183000Z
DTEND:20261103T200000Z
END:VEVENT
END:VCALENDAR
