BEGIN:VCALENDAR
VERSION:2.0
PRODID:-//Eventin//Event Calendar//EN
CALSCALE:GREGORIAN
METHOD:PUBLISH
BEGIN:VEVENT
UID:33931dcea0a6f53df232286e8550a1bd@volketswil-schwerzenbach.grunliberale.
 ch
SUMMARY:Gemeindeversammlung Schwerzenbach
DESCRIPTION:
LOCATION:Scherzenbach
DTSTAMP:20260424T092945Z
DTSTART:20260916T170000Z
DTEND:20260916T190000Z
END:VEVENT
END:VCALENDAR
