BEGIN:VCALENDAR
VERSION:2.0
PRODID:-//Eventin//Event Calendar//EN
CALSCALE:GREGORIAN
METHOD:PUBLISH
BEGIN:VEVENT
UID:e7f274a454aaaac05081510100682373@volketswil-schwerzenbach.grunliberale.
 ch
SUMMARY:Gemeindeversammlung Schwerzenbach
DESCRIPTION:
LOCATION:Scherzenbach
DTSTAMP:20260424T061003Z
DTSTART:20260617T170000Z
DTEND:20260617T190000Z
END:VEVENT
END:VCALENDAR
