BEGIN:VCALENDAR
VERSION:2.0
PRODID:-//Eventin//Event Calendar//EN
CALSCALE:GREGORIAN
METHOD:PUBLISH
BEGIN:VEVENT
UID:c036e890c6b8c8b01382c846244d29cc@volketswil-schwerzenbach.grunliberale.
 ch
SUMMARY:Gemeindeversammlung Volketswil
DESCRIPTION:
LOCATION:Kultur- und Sportzentrum Gries\, Volketswil
DTSTAMP:20260424T075114Z
DTSTART:20260908T173000Z
DTEND:20260908T200000Z
END:VEVENT
END:VCALENDAR
