BEGIN:VCALENDAR
VERSION:2.0
PRODID:-//Eventin//Event Calendar//EN
CALSCALE:GREGORIAN
METHOD:PUBLISH
BEGIN:VEVENT
UID:7adb85d0b2ceef8baf72be4fe348de28@volketswil-schwerzenbach.grunliberale.
 ch
SUMMARY:Grill - Höck mit Parolenfassung
DESCRIPTION:
LOCATION:Volketswil
DTSTAMP:20260424T074113Z
DTSTART:20260820T160000Z
DTEND:20260820T190000Z
END:VEVENT
END:VCALENDAR
