BEGIN:VCALENDAR
VERSION:2.0
PRODID:-//Eventin//Event Calendar//EN
CALSCALE:GREGORIAN
METHOD:PUBLISH
BEGIN:VEVENT
UID:4b45e55fe7fa89b044d1d7110079825c@volketswil-schwerzenbach.grunliberale.
 ch
SUMMARY:Gemeindeversammlung Volketswil
DESCRIPTION:
LOCATION:Kultur- und Sportzentrum Gries\, Volketswil
DTSTAMP:20260424T124120Z
DTSTART:20260612T173000Z
DTEND:20260612T200000Z
END:VEVENT
END:VCALENDAR
