BEGIN:VCALENDAR
VERSION:2.0
PRODID:-//Eventin//Event Calendar//EN
CALSCALE:GREGORIAN
METHOD:PUBLISH
BEGIN:VEVENT
UID:961cd5a8d80643cdfc05e3edc0ab51a3@volketswil-schwerzenbach.grunliberale.
 ch
SUMMARY:Höck mit Parolenfassung
DESCRIPTION:
LOCATION:Volketswil
DTSTAMP:20260424T062333Z
DTSTART:20260526T173000Z
DTEND:20260526T190000Z
END:VEVENT
END:VCALENDAR
